BEGIN:VCALENDAR
VERSION:2.0
PRODID:-//Paradise News Magazine - ECPv6.15.20//NONSGML v1.0//EN
CALSCALE:GREGORIAN
METHOD:PUBLISH
X-ORIGINAL-URL:https://www.paradisenewsfl.com
X-WR-CALDESC:Events for Paradise News Magazine
REFRESH-INTERVAL;VALUE=DURATION:PT1H
X-Robots-Tag:noindex
X-PUBLISHED-TTL:PT1H
BEGIN:VTIMEZONE
TZID:UTC
BEGIN:STANDARD
TZOFFSETFROM:+0000
TZOFFSETTO:+0000
TZNAME:UTC
DTSTART:20200101T000000
END:STANDARD
END:VTIMEZONE
BEGIN:VEVENT
DTSTART;VALUE=DATE:20210514
DTEND;VALUE=DATE:20210517
DTSTAMP:20260423T082241
CREATED:20210317T055320Z
LAST-MODIFIED:20210317T055359Z
UID:21235-1620950400-1621209599@www.paradisenewsfl.com
SUMMARY:PAVA Paint and Photo Plein Aire Event at the Florida Botanical Gardens
DESCRIPTION:From Friday\, May 14th through Sunday\, May 16th (10am-5pm each day)\, the public is invited to join PAVA (The Professional Association of Visual Artists) artists as they leave behind their studios and demonstrate their painting\, drawing\, and photography techniques in the beautiful outdoor landscape of Florida’s Botanical Gardens. \nOver a dozen artists will be scattered throughout the Florida Botanical Gardens during normal operating hours allowing the public to see first-hand how the artists create their artwork\, ask questions about their individual techniques\, and learn about what inspires them.
URL:https://www.paradisenewsfl.com/event/pava-plein-aire/
LOCATION:Florida Botanical Gardens\, 12520 Ulmerton Rd\, Largo\, FL\, 33774\, United States
CATEGORIES:ALL,Art
ATTACH;FMTTYPE=image/jpeg:https://www.paradisenewsfl.com/wp-content/uploads/2020/06/pava-2020-artwork.jpg
END:VEVENT
END:VCALENDAR