BEGIN:VCALENDAR
VERSION:2.0
PRODID:-//Paradise News Magazine - ECPv6.15.20//NONSGML v1.0//EN
CALSCALE:GREGORIAN
METHOD:PUBLISH
X-ORIGINAL-URL:https://www.paradisenewsfl.com
X-WR-CALDESC:Events for Paradise News Magazine
REFRESH-INTERVAL;VALUE=DURATION:PT1H
X-Robots-Tag:noindex
X-PUBLISHED-TTL:PT1H
BEGIN:VTIMEZONE
TZID:UTC
BEGIN:STANDARD
TZOFFSETFROM:+0000
TZOFFSETTO:+0000
TZNAME:UTC
DTSTART:20200101T000000
END:STANDARD
END:VTIMEZONE
BEGIN:VEVENT
DTSTART;VALUE=DATE:20210508
DTEND;VALUE=DATE:20210509
DTSTAMP:20260423T082205
CREATED:20210506T215038Z
LAST-MODIFIED:20210506T215038Z
UID:22285-1620432000-1620518399@www.paradisenewsfl.com
SUMMARY:St. Petersburg Second Saturday Art Walk
DESCRIPTION:The Central Arts District\, EDGE District\, Grand Central District\, Warehouse Arts District and downtown Waterfront Arts District invite you to visit their studios and galleries on Saturday\, May 8th at various times throughout the day. \nCOVID guidelines will be in place at each individual venue. The ArtWalk trolleys will NOT be running this month due to not having enough space for social distancing.\nIf you do visit an ArtWalk venue this week or on Saturday\, be prepared to follow THEIR guidelines for entry into their establishment. Please note that each venue has different Saturday hours.\nHERE’S WHAT’S HAPPENING!\nDownload a PDF of these venues here!
URL:https://www.paradisenewsfl.com/event/st-petersburg-second-saturday-art-walk/
LOCATION:Various Location in St. Petersburg
CATEGORIES:ALL,Art
ATTACH;FMTTYPE=image/jpeg:https://www.paradisenewsfl.com/wp-content/uploads/2020/10/art-walk-fall.jpg
END:VEVENT
END:VCALENDAR