BEGIN:VCALENDAR
VERSION:2.0
PRODID:-//Paradise News Magazine - ECPv6.15.20//NONSGML v1.0//EN
CALSCALE:GREGORIAN
METHOD:PUBLISH
X-WR-CALNAME:Paradise News Magazine
X-ORIGINAL-URL:https://www.paradisenewsfl.com
X-WR-CALDESC:Events for Paradise News Magazine
REFRESH-INTERVAL;VALUE=DURATION:PT1H
X-Robots-Tag:noindex
X-PUBLISHED-TTL:PT1H
BEGIN:VTIMEZONE
TZID:UTC
BEGIN:STANDARD
TZOFFSETFROM:+0000
TZOFFSETTO:+0000
TZNAME:UTC
DTSTART:20200101T000000
END:STANDARD
END:VTIMEZONE
BEGIN:VEVENT
DTSTART;TZID=UTC:20210418T100000
DTEND;TZID=UTC:20210418T170000
DTSTAMP:20260423T092834
CREATED:20210415T175053Z
LAST-MODIFIED:20210415T175053Z
UID:21871-1618740000-1618765200@www.paradisenewsfl.com
SUMMARY:Spring in the EDGE District
DESCRIPTION:This Sunday\, April 18\, from 10 am until 5 pm\, the EDGE District welcomes all to its newest event\, Spring in the EDGE. This free event is a shop & stroll created to support the many unique boutiques and other small businesses across the district’s seven-block length. Guests are encouraged to play “EDGE BINGO” during the event\, filling in squares on their bingo cards by visiting the identified businesses and supporting them with a social media posts or purchases. Winners will take home more than $1000 in prizes.\n\nIn addition\, event guests will receive in-store giveaways\, raffles\, and discounts throughout the day at twenty of the EDGE District’s businesses\, including boutiques\, galleries\, shops\, restaurants\, and bars.\n\nThe first three hundred guests to check in at this event will also receive a free event tote bag with even more special offers. The first five hundred guests to check in will get a free card to play the EDGE BINGO game. The check-in point is the EDGE Animal Hospital at 913 1st Ave. N.\n\nDue to continuing COVID concerns\, all guests are asked to wear face masks throughout this event and adhere to in-store safety policies.\n\nFor a list of directions\, available parking\, participating businesses\, and event specials\, please go to edgedistrict.org/spring-in-the-edge or scan the QR code below.\n\nThis event is hosted by the EDGE Business District Association\, an award-winning\, accredited Main Street America™ and Florida Main Street that plans\, promotes\, and advocates to sustain an eclectic\, vibrant EDGE District community while preserving its unique character. The district runs from MLK Street to 16th Street\, and 1st Avenue North to 1st Avenue South in St. Petersburg. For more information\, please see edgedistrict.org.
URL:https://www.paradisenewsfl.com/event/spring-in-the-edge-district/
LOCATION:EDGE Business District Association\, MLK Street to 16th Street\, and 1st Avenue North to 1st Avenue South\, St. Petersburg\, FL\, 33733\, United States
CATEGORIES:ALL,Art
ATTACH;FMTTYPE=image/jpeg:https://www.paradisenewsfl.com/wp-content/uploads/2020/07/edge-light-sign.jpg
END:VEVENT
END:VCALENDAR