BEGIN:VCALENDAR
VERSION:2.0
PRODID:-//Paradise News Magazine - ECPv6.15.20//NONSGML v1.0//EN
CALSCALE:GREGORIAN
METHOD:PUBLISH
X-ORIGINAL-URL:https://www.paradisenewsfl.com
X-WR-CALDESC:Events for Paradise News Magazine
REFRESH-INTERVAL;VALUE=DURATION:PT1H
X-Robots-Tag:noindex
X-PUBLISHED-TTL:PT1H
BEGIN:VTIMEZONE
TZID:UTC
BEGIN:STANDARD
TZOFFSETFROM:+0000
TZOFFSETTO:+0000
TZNAME:UTC
DTSTART:20200101T000000
END:STANDARD
END:VTIMEZONE
BEGIN:VEVENT
DTSTART;TZID=UTC:20210417T080000
DTEND;TZID=UTC:20210417T120000
DTSTAMP:20260423T093556
CREATED:20210401T173938Z
LAST-MODIFIED:20210401T173938Z
UID:21632-1618646400-1618660800@www.paradisenewsfl.com
SUMMARY:City of Dunedin Arbor Day Tree Give-away
DESCRIPTION:Arbor Day Tree Give-Away\nSaturday\, April 17\, 2021\n8:00 am (while supplies last)\nAchieva Credit Union Corporate Headquarters \nJoin the City of Dunedin in celebrating Arbor Day! The City of Dunedin on behalf of the Parks & Recreation Department and City Arborist\, Craig Wilson\, will be hosting the annual Arbor Day Tree Give-Away event. Dunedin residents (with proof of residency) will receive two 3-gallon trees while supplies last. \nAttendees are asked to remain in their vehicle as you drive through to pick up your trees from City staff. Please adhere to all social distancing guidelines and health and safety requirements. City staff will have hand sanitizer available and will be wearing face coverings/masks. \n2021 Arbor Day Giveaway Trees (while supplies last):\n· American Elm\n· Bald Cypress\n· Black Tupelo\n· Common Persimmon\n· Crape Myrtle – Natchez White\n· Crape Myrtle – Muskogree Lavender\n· Fringetree\n· Red Cedar\n· Red Maple\n· Rusty Blackhaw\n· Southern Live Oak\n· Southern Slash Pine\nView photos and characteristics of these trees \nFor more information\, please contact the City of Dunedin Arborist at 727-298-3279. \nEvent location:\nAchieva Credit Union Corporate Headquarters\n1659 Achieva Way\nDunedin\, FL 34698
URL:https://www.paradisenewsfl.com/event/city-of-dunedin-arbor-day-tree-give-away/
LOCATION:Achieve Credit Union Corporate Headquarters\, 1659 Achieva Way\, Dunedin\, FL\, 34698\, United States
END:VEVENT
BEGIN:VEVENT
DTSTART;TZID=UTC:20210417T090000
DTEND;TZID=UTC:20210417T120000
DTSTAMP:20260423T093556
CREATED:20210415T172150Z
LAST-MODIFIED:20210415T172150Z
UID:21865-1618650000-1618660800@www.paradisenewsfl.com
SUMMARY:City of Madeira Beach Hurricane Expo
DESCRIPTION:Please join us for the Hurricane Preparedness Expo. Meet with City representatives\, local organizations\, and businesses who will provide information on to help you prepare before\, during\, and after a storm. This event is open to all members of the coastal communities.\n\nFREE EVENT\nGUEST SPEAKERS\nKIDS’ ACTIVITIES\nPREPAREDNESS INFORMATIONPICK UP FOR RESIDENTIAL PARKING\n& ACCESS PASSES\n\nFacebook Event : Click Here\nWatch the Hurricane Seminar Live: Click Here\nSubmit a question for the Hurricane Seminar: Click Here\n\nVendor spaces available. For more information contact the Madeira Beach Recreation Department at recreation@madeirabeachfl.gov or 727-392-0665
URL:https://www.paradisenewsfl.com/event/city-of-madeira-beach-hurricane-expo/
LOCATION:Madeira Beach City Hall\, 300 Municipal Drive\, Madeira Beach\, FL\, 33708\, United States
CATEGORIES:ALL
ATTACH;FMTTYPE=image/jpeg:https://www.paradisenewsfl.com/wp-content/uploads/2016/07/hurricane-image.jpg
END:VEVENT
BEGIN:VEVENT
DTSTART;TZID=UTC:20210417T170000
DTEND;TZID=UTC:20210417T210000
DTSTAMP:20260423T093556
CREATED:20210323T061959Z
LAST-MODIFIED:20210323T061959Z
UID:21359-1618678800-1618693200@www.paradisenewsfl.com
SUMMARY:Gulfport Third Saturday IndieFaire
DESCRIPTION:Welcome to Third Saturday IndieFaire! IndieFaire features high quality local art and contemporary crafts from across a wide range of mediums\, as well as jewelry and locally sourced botanicals in an outdoor and socially distanced manner along scenic Beach Boulevard in downtown Gulfport.\n\nFor more information\, please visit http://visitgulfportflorida.com/indiefaire/
URL:https://www.paradisenewsfl.com/event/gulfport-third-saturday-indiefaire-4/
LOCATION:Downtown Gulfport\, Shore & Beach Blvd\, Gulfport\, FL\, 33707\, United States
CATEGORIES:ALL,Art
ATTACH;FMTTYPE=image/jpeg:https://www.paradisenewsfl.com/wp-content/uploads/2020/10/gulfport-indie-faerie.jpg
END:VEVENT
END:VCALENDAR