BEGIN:VCALENDAR
VERSION:2.0
PRODID:-//Paradise News Magazine - ECPv6.15.20//NONSGML v1.0//EN
CALSCALE:GREGORIAN
METHOD:PUBLISH
X-ORIGINAL-URL:https://www.paradisenewsfl.com
X-WR-CALDESC:Events for Paradise News Magazine
REFRESH-INTERVAL;VALUE=DURATION:PT1H
X-Robots-Tag:noindex
X-PUBLISHED-TTL:PT1H
BEGIN:VTIMEZONE
TZID:UTC
BEGIN:STANDARD
TZOFFSETFROM:+0000
TZOFFSETTO:+0000
TZNAME:UTC
DTSTART:20200101T000000
END:STANDARD
END:VTIMEZONE
BEGIN:VEVENT
DTSTART;VALUE=DATE:20210410
DTEND;VALUE=DATE:20210411
DTSTAMP:20260423T093601
CREATED:20210406T150534Z
LAST-MODIFIED:20210406T152123Z
UID:21738-1618012800-1618099199@www.paradisenewsfl.com
SUMMARY:St. Pete 2nd Saturday Art Walk
DESCRIPTION:The Central Arts District\, EDGE District\, Grand Central District\, Warehouse Arts District and downtown Waterfront Arts District invite you to visit their studios and galleries on Saturday\, April 10th at various times throughout the day. \nCOVID guidelines will be in place at each individual venue. \nIf you do visit an ArtWalk venue this week or on Saturday\, be prepared to follow THEIR guidelines for entry into their establishment. Please note that each venue has different Saturday hours.\nHERE’S WHAT’S HAPPENING!\nDownload a PDF of these venues here!
URL:https://www.paradisenewsfl.com/event/st-pete-2nd-saturday-art-walk-2/
LOCATION:Various Location in St. Petersburg
CATEGORIES:ALL,Art,St. Petersburg
ATTACH;FMTTYPE=image/jpeg:https://www.paradisenewsfl.com/wp-content/uploads/2020/10/art-walk-fall.jpg
END:VEVENT
END:VCALENDAR