BEGIN:VCALENDAR
VERSION:2.0
PRODID:-//Paradise News Magazine - ECPv6.15.20//NONSGML v1.0//EN
CALSCALE:GREGORIAN
METHOD:PUBLISH
X-WR-CALNAME:Paradise News Magazine
X-ORIGINAL-URL:https://www.paradisenewsfl.com
X-WR-CALDESC:Events for Paradise News Magazine
REFRESH-INTERVAL;VALUE=DURATION:PT1H
X-Robots-Tag:noindex
X-PUBLISHED-TTL:PT1H
BEGIN:VTIMEZONE
TZID:UTC
BEGIN:STANDARD
TZOFFSETFROM:+0000
TZOFFSETTO:+0000
TZNAME:UTC
DTSTART:20200101T000000
END:STANDARD
END:VTIMEZONE
BEGIN:VEVENT
DTSTART;VALUE=DATE:20210409
DTEND;VALUE=DATE:20210410
DTSTAMP:20260423T093418
CREATED:20210323T052938Z
LAST-MODIFIED:20210401T175528Z
UID:21345-1617926400-1618012799@www.paradisenewsfl.com
SUMMARY:First Friday Art Market
DESCRIPTION:Join Creative Clay for our First Friday Art Market\, presented by our Pinellas County Schools’ Transition students. This outdoor market will feature handmade original art\, cards\, ceramics\, and more. Live music by Emily Turnage and Baja’s Southern Food and Catering will highlight the event. Don’t forget to wear your mask!
URL:https://www.paradisenewsfl.com/event/first-friday-art-market/
LOCATION:Creative Clay\, 1846 1st Ave S\, St. Petersburg\, FL\, 33712\, United States
CATEGORIES:ALL,Art
ATTACH;FMTTYPE=image/jpeg:https://www.paradisenewsfl.com/wp-content/uploads/2021/01/creative-clay.jpg
END:VEVENT
END:VCALENDAR