BEGIN:VCALENDAR
VERSION:2.0
PRODID:-//Paradise News Magazine - ECPv6.15.20//NONSGML v1.0//EN
CALSCALE:GREGORIAN
METHOD:PUBLISH
X-WR-CALNAME:Paradise News Magazine
X-ORIGINAL-URL:https://www.paradisenewsfl.com
X-WR-CALDESC:Events for Paradise News Magazine
REFRESH-INTERVAL;VALUE=DURATION:PT1H
X-Robots-Tag:noindex
X-PUBLISHED-TTL:PT1H
BEGIN:VTIMEZONE
TZID:UTC
BEGIN:STANDARD
TZOFFSETFROM:+0000
TZOFFSETTO:+0000
TZNAME:UTC
DTSTART:20200101T000000
END:STANDARD
END:VTIMEZONE
BEGIN:VEVENT
DTSTART;VALUE=DATE:20210326
DTEND;VALUE=DATE:20210329
DTSTAMP:20260423T104201
CREATED:20210322T224625Z
LAST-MODIFIED:20210322T224625Z
UID:21332-1616716800-1616975999@www.paradisenewsfl.com
SUMMARY:St. Petersburg Ballet Conservatory Presents 'A Night in the Cafe'
DESCRIPTION:“A Night at the Cafe” by Servy Gallardo\nMarch 26-28\, 2021\nBy St. Petersburg Ballet Conservatory\nAt SPBC Blue Theater / Jonathan & Sarah Bailie Studio\, 1500 58th Street South\, Gulfport 33707 \nJoin St. Petersburg Ballet Conservatory for an unforgettable production of professional dancing by SPBC to the timeless music of Michael Buble set to all-original choreography by artistic director\, Servy Gallardo! \nTicket allotment is set for 1/3 of capacity so get your tickets now! We expect to sell out all shows as we safely welcome back our community! \nDancers include professional artists from the Cleveland Ballet\, Covington Pearson and St. Petersburg native\, Jonas Godwin. \n\nFriday\, March 26\, 7:00pm\, $75\nSaturday\, March 27\, 2:00pm\, $25/$15\nSaturday\, March 27\, 7:00pm\, $75\nSunday\, March 28\, 3:00pm\, $25/$15\n\nEvening shows are black-tie preferred for the Gala Experience. Those shows also feature a pre-show wine reception and after-show meet and greet with our dancers. \nMasks are to be worn by all guests at all times while inside the theater and facilities for the safety of our dancers\, staff\, families and patrons. We appreciate your cooperation.
URL:https://www.paradisenewsfl.com/event/st-petersburg-ballet-conservatory-presents-a-night-in-the-cafe/
LOCATION:St. Peterburg Ballet Conservatory\, 1500 58th Street South\, Gulfport\, FL\, 33709\, United States
CATEGORIES:ALL,Gulfport
ATTACH;FMTTYPE=image/jpeg:https://www.paradisenewsfl.com/wp-content/uploads/2021/03/st-pete-ballet-conservatory.jpg
END:VEVENT
BEGIN:VEVENT
DTSTART;TZID=UTC:20210327T100000
DTEND;TZID=UTC:20210327T140000
DTSTAMP:20260423T104201
CREATED:20210304T194650Z
LAST-MODIFIED:20210304T194650Z
UID:21015-1616839200-1616853600@www.paradisenewsfl.com
SUMMARY:Gulfport’s Art in the Yard Sale
DESCRIPTION:It’s time to showcase original art created by you in Gulfport’s Art in the Yard Sale\, Saturday\, March 27 (rain date\, Sunday\, March 28). You can have your art sale at your Gulfport residence. Do not miss this tremendous opportunity to have your Gulfport address listed on Google Maps for added visibility. For your Gulfport address to be added you can fill out the online form at https://mygulfport.us/gulfport-art-in-the-yard.\n\nThe Gulfport Art in the Yard map is available online at https://mygulfport.us/gulfport-art-in-the-yard and the addresses will be listed in the Gabber on Thursday\, March 25. Deadline to submit is Friday\, March 19\, 2021 at 3:00 p.m.
URL:https://www.paradisenewsfl.com/event/gulfports-art-in-the-yard-sale/
LOCATION:Various Locations in Gulfport\, Gulfport\, FL\, United States
CATEGORIES:ALL,Art,Gulfport
ATTACH;FMTTYPE=image/jpeg:https://www.paradisenewsfl.com/wp-content/uploads/2021/03/art-in-the-yard.jpg
END:VEVENT
BEGIN:VEVENT
DTSTART;TZID=UTC:20210327T100000
DTEND;TZID=UTC:20210327T170000
DTSTAMP:20260423T104201
CREATED:20210322T225157Z
LAST-MODIFIED:20210322T225157Z
UID:21335-1616839200-1616864400@www.paradisenewsfl.com
SUMMARY:Rays Baseball Drive to Opening Day Celebration
DESCRIPTION:The Tampa Bay Rays will host Drive to Opening Day\, a new drive-thru event in the Tropicana Field parking lots that replaces the team’s annual Fan Fest. Presented by Bayfront Health St. Petersburg\, Drive to Opening Day will take place on Saturday\, March 27 from 10 a.m. to 5 p.m. \nWith COVID-19 still prevalent in the Tampa Bay area\, the Rays have transformed the preseason event into a drive-thru concept with giveaways\, experiences and photo opportunities from fans’ cars. Fan hosts\, DJs and mascots Raymond and DJ Kitty will be on hand at stations throughout the event. \nTo participate in Drive to Opening Day\, fans can claim a free ticket for a designated time slot at RaysBaseball.com/Drive\, starting on Thursday\, March 18 at 10 a.m. Season Members will have the opportunity to claim tickets before the general public. \nTickets reserved in advance are free. If space is still available\, fans who arrive on the day of the event without a reservation can enter by making a $10 donation to the Rays Baseball Foundation and Rowdies Soccer Fund. \n“Fan Fest is a fan favorite at Tropicana Field\,” said Vice President of Marketing and Creative Services Eric Weisberg. “The event is evolving to make sure that fans can still celebrate the excitement of the upcoming season—and the success of 2020—in an engaging and safe way.” \nFor safety and convenience\, fans will not need to leave their vehicle for any of the activities and can choose a specific time slot to avoid long lines of cars. \nAmong the activities and experiences at the event\, fans will have the opportunity to take pictures with the American League Championship trophy\, wave to Tampa Bay Rowdies mascots Pete and Pinnie and see the Rowdies Eastern Conference Championship trophy while inside their vehicles. The Rowdies station will also feature a limited-edition giveaway. In addition\, WDAE’s Zac Blobner and Nick Wize will broadcast live from 10 a.m.–12:30 p.m. \nA snack station will have light ballpark fare for fans as they drive. Additional activity stations include presence from Bayfront Health St. Petersburg\, FOX Sports Sun\, Visit St. Pete Clearwater\, Outback Steakhouse and Hooters. \nThe Rays Baseball Foundation and Rowdies Soccer Fund will sell mystery game-used baseballs and mystery autographed baseballs\, with all proceeds benefiting the foundation. Mystery game-used baseballs are $20\, while mystery autographed baseballs are $40. Fans can also visit RaysBaseball.com/Auctions from March 26-28 to purchase team-issued shirts\, caps\, helmets and jerseys\, also benefiting the Rays Baseball Foundation and Rowdies Soccer Fund. Items purchased online will be shipped. The Rays Baseball Foundation and Rowdies Soccer Fund\, a 501(c)(3) organization and the official charity of the Rays and Rowdies\, is dedicated to improving the lives of those in need within our community\, focusing primarily on education\, youth development\, wellness and social responsibility. For more information about the Rays Baseball Foundation and Rowdies Soccer Fund\, visit RaysBaseball.com/Community. \nFans will also have the opportunity to donate to 10 Tampa Bay and Feeding Tampa Bay’s Cereal for Summer Drive\, which works to fight hunger during the summer school break and benefits families in the Tampa Bay community. Suggested donations include cereal\, breakfast bars\, granola and oatmeal. Each household that donates will receive a surprise Rays promotional item. \nAt the conclusion of the drive-thru event\, fans may park and exit their vehicles in a designated section of the parking lot to speak to Rays Ticket Sales Representatives or shop in the Rays Republic Team Store. \nThe Rays are committed to keeping fans and staff safe during the Drive to Opening Day event. Face masks are required while vehicle windows are down and any time outside a vehicle. \nInformation courtesy of Rays Baseball.
URL:https://www.paradisenewsfl.com/event/rays-baseball-drive-to-opening-day-celebration/
LOCATION:Tropicana Field\, 1 Tropicana Drive\, St. Petersburg\, FL\, 33705\, United States
CATEGORIES:ALL,St. Petersburg
ATTACH;FMTTYPE=image/jpeg:https://www.paradisenewsfl.com/wp-content/uploads/2020/10/rays-up.jpg
END:VEVENT
END:VCALENDAR