BEGIN:VCALENDAR
VERSION:2.0
PRODID:-//Paradise News Magazine - ECPv6.15.20//NONSGML v1.0//EN
CALSCALE:GREGORIAN
METHOD:PUBLISH
X-ORIGINAL-URL:https://www.paradisenewsfl.com
X-WR-CALDESC:Events for Paradise News Magazine
REFRESH-INTERVAL;VALUE=DURATION:PT1H
X-Robots-Tag:noindex
X-PUBLISHED-TTL:PT1H
BEGIN:VTIMEZONE
TZID:UTC
BEGIN:STANDARD
TZOFFSETFROM:+0000
TZOFFSETTO:+0000
TZNAME:UTC
DTSTART:20200101T000000
END:STANDARD
END:VTIMEZONE
BEGIN:VEVENT
DTSTART;VALUE=DATE:20210317
DTEND;VALUE=DATE:20210318
DTSTAMP:20260423T104342
CREATED:20210227T230741Z
LAST-MODIFIED:20210227T230806Z
UID:20803-1615939200-1616025599@www.paradisenewsfl.com
SUMMARY:Luck of the Paw at Friends of Strays Animal Shelter
DESCRIPTION:Adopt a pet on St. Paw-Trick’s Day and pick a coin from our pot o’ gold!\nYour discount depends on your luck! You may be taking your lucky charm home for free! \nAdopt a pet from Friends of Strays on St. Patrick’s Day and you’ll win one of the following:\nHalf off adoption fee\n$17 adoption fee\nPick your own adoption fee\nFriends of Strays t-shirt of your choice\nCat starter pack\nFriends of Strays swag bag\nFREE adoption!
URL:https://www.paradisenewsfl.com/event/luck-of-the-paw/
LOCATION:Friends of Strays Animal Shelter\, 2911 47th Ave N\, St. Petersburg\, FL\, 33714\, United States
CATEGORIES:ALL
ATTACH;FMTTYPE=image/jpeg:https://www.paradisenewsfl.com/wp-content/uploads/2018/01/friends-of-strays.jpg
ORGANIZER;CN="Friends of Strays":MAILTO:ttp://ww.friendsofstrays.com/events
END:VEVENT
BEGIN:VEVENT
DTSTART;TZID=UTC:20210317T080000
DTEND;TZID=UTC:20210317T170000
DTSTAMP:20260423T104342
CREATED:20210317T053852Z
LAST-MODIFIED:20210317T053852Z
UID:21225-1615968000-1616000400@www.paradisenewsfl.com
SUMMARY:St. Pete Beach Community Yard Sale
DESCRIPTION:$15 per space. Call 727-363-9245 to reserve your space today.
URL:https://www.paradisenewsfl.com/event/st-pete-beach-community-yard-sale/
LOCATION:St. Pete Beach Community Center\, 7701 Boca Ciega Dr \, St. Pete Beach\, FL\, 33706\, United States
CATEGORIES:ALL,St. Pete Beach
ATTACH;FMTTYPE=image/jpeg:https://www.paradisenewsfl.com/wp-content/uploads/2016/08/spb-community-yard-sale.jpg
END:VEVENT
END:VCALENDAR