BEGIN:VCALENDAR
VERSION:2.0
PRODID:-//Paradise News Magazine - ECPv6.15.20//NONSGML v1.0//EN
CALSCALE:GREGORIAN
METHOD:PUBLISH
X-ORIGINAL-URL:https://www.paradisenewsfl.com
X-WR-CALDESC:Events for Paradise News Magazine
REFRESH-INTERVAL;VALUE=DURATION:PT1H
X-Robots-Tag:noindex
X-PUBLISHED-TTL:PT1H
BEGIN:VTIMEZONE
TZID:UTC
BEGIN:STANDARD
TZOFFSETFROM:+0000
TZOFFSETTO:+0000
TZNAME:UTC
DTSTART:20200101T000000
END:STANDARD
END:VTIMEZONE
BEGIN:VEVENT
DTSTART;VALUE=DATE:20210307
DTEND;VALUE=DATE:20210308
DTSTAMP:20260423T104341
CREATED:20210114T194053Z
LAST-MODIFIED:20210114T194053Z
UID:19992-1615075200-1615161599@www.paradisenewsfl.com
SUMMARY:Plant Museum Picnic in the Park
DESCRIPTION:Mark your calendar for our annual family fun day\, Picnic in the Park! We look forward to seeing you for a day of live entertainment\, field games\, free popcorn and more.\n\nThis event takes place outdoors and all attendees will be able to easily social distance and enjoy the festivities.
URL:https://www.paradisenewsfl.com/event/plant-museum-picnic-in-the-park/
LOCATION:FL
CATEGORIES:ALL
ATTACH;FMTTYPE=image/jpeg:https://www.paradisenewsfl.com/wp-content/uploads/2019/03/picnic-in-the-park.jpg
END:VEVENT
END:VCALENDAR