BEGIN:VCALENDAR
VERSION:2.0
PRODID:-//Paradise News Magazine - ECPv6.15.20//NONSGML v1.0//EN
CALSCALE:GREGORIAN
METHOD:PUBLISH
X-WR-CALNAME:Paradise News Magazine
X-ORIGINAL-URL:https://www.paradisenewsfl.com
X-WR-CALDESC:Events for Paradise News Magazine
REFRESH-INTERVAL;VALUE=DURATION:PT1H
X-Robots-Tag:noindex
X-PUBLISHED-TTL:PT1H
BEGIN:VTIMEZONE
TZID:UTC
BEGIN:STANDARD
TZOFFSETFROM:+0000
TZOFFSETTO:+0000
TZNAME:UTC
DTSTART:20200101T000000
END:STANDARD
END:VTIMEZONE
BEGIN:VEVENT
DTSTART;VALUE=DATE:20210213
DTEND;VALUE=DATE:20210215
DTSTAMP:20260423T115202
CREATED:20210120T044842Z
LAST-MODIFIED:20210201T195600Z
UID:20076-1613174400-1613347199@www.paradisenewsfl.com
SUMMARY:Gulfport Fine Arts Festival 2021
DESCRIPTION:Celebrate art\, near and far\, at the Gulfport Fine Arts Festival\, set against the idyllic backdrop of Boca Ciega Bay in Gulfport Florida. Meet local and nationally known artists and add to your collection.\nThe juried art show features the fine works of art from across the region\, including but not limited to 2D\, 3D\, ceramics\, fiber\, glass\, metal\, mixed media\, wood\, acrylics\, collage\, assemblages\, drawing\, leather\, oils\, pastels\, fine photography\, stone\, watercolors\, fine jewelry\, and sculpture.\nLearn more at visitgulfportflorida.com. Artist inquiries: visitgulfport@gmail.com.\nGulfport Merchant’s Chamber (@visitgulfportfl) hosts the annual Gulfport Fine Arts Festival (formerly Gulfport Masters).\n(Image from the 2020 Best in Show winner\, John Mauer. Used with permission)\nArtists — deadline for application is Sept. 15\, 2020 ~ watch this space for a link to apply!
URL:https://www.paradisenewsfl.com/event/gulfport-fine-arts-festival-2021/
LOCATION:Gulfport Veteran’s Park\, 5350 31st Ave S\, Gulfport\, FL\, 33707\, United States
CATEGORIES:ALL,Art
ATTACH;FMTTYPE=image/jpeg:https://www.paradisenewsfl.com/wp-content/uploads/2021/01/gulfport-fine-arts-festival.jpg
END:VEVENT
BEGIN:VEVENT
DTSTART;VALUE=DATE:20210213
DTEND;VALUE=DATE:20210215
DTSTAMP:20260423T115202
CREATED:20210126T200650Z
LAST-MODIFIED:20210126T200650Z
UID:20168-1613174400-1613347199@www.paradisenewsfl.com
SUMMARY:9th Annual VETSports Beach Volleyball Gulfport Open
DESCRIPTION:Whether you served in the military or serve on the volleyball court\, join VETSports and the Tampa Bay Beach Bums for the 9th Annual games. \n\n\n\n\n\nAbout this Event \n\n\nAll VolleyAmerica players sign up through Tampa Bay Beach Bums (Sat & Sun). \nMens and Womens 2’s on Saturday\, February 13\, 2021 (8am Start) \nTrue Co-Ed 4’s (2 Girl Minimum) on Sunday\, February 14 – Noon – For Sunday only….players register here at EventBrite if you are NOT a Volley America member. \nCOURAGE. RESILIENCE. TEAMWORK. \nVETSPORTS IS A 501 (C) 3 TAX EXEMPT ORGANIZATION: EIN 46-0560244 \nhttp://www.VETSports.org \nVetSports is a nationwide non-profit helping veterans achieve better physical\, mental and emotional health through sports\, physical activity and community involvement.
URL:https://www.paradisenewsfl.com/event/9th-annual-vetsports-beach-volleyball-gulfport-open/
LOCATION:Gulfport Beach\, 5500 Shore Blvd S\, Gulfport\, 33707\, United States
CATEGORIES:ALL,Gulfport,Outdoors
ATTACH;FMTTYPE=image/jpeg:https://www.paradisenewsfl.com/wp-content/uploads/2021/01/vetsports.jpg
END:VEVENT
BEGIN:VEVENT
DTSTART;VALUE=DATE:20210214
DTEND;VALUE=DATE:20210215
DTSTAMP:20260423T115202
CREATED:20210125T212947Z
LAST-MODIFIED:20210201T195609Z
UID:20154-1613260800-1613347199@www.paradisenewsfl.com
SUMMARY:Adopt the Purr-fect Pair at Friends of Strays Animal Shelter
DESCRIPTION:Take home one cat or kitten on Valentine’s Day weekend and we’ll waive the adoption fee on the second!\nYou can view all of our adoptable animals\, as well as our adoption center hours\, at friendsofstrays.org/adopt
URL:https://www.paradisenewsfl.com/event/adopt-the-purr-fect-pair-at-friends-of-strays-animal-shelter/
LOCATION:Friends of Strays Animal Shelter\, 2911 47th Ave N\, St. Petersburg\, FL\, 33714\, United States
CATEGORIES:ALL,St. Petersburg
ATTACH;FMTTYPE=image/jpeg:https://www.paradisenewsfl.com/wp-content/uploads/2018/01/friends-of-strays.jpg
ORGANIZER;CN="Friends of Strays":MAILTO:ttp://ww.friendsofstrays.com/events
END:VEVENT
END:VCALENDAR