BEGIN:VCALENDAR
VERSION:2.0
PRODID:-//Paradise News Magazine - ECPv6.15.20//NONSGML v1.0//EN
CALSCALE:GREGORIAN
METHOD:PUBLISH
X-WR-CALNAME:Paradise News Magazine
X-ORIGINAL-URL:https://www.paradisenewsfl.com
X-WR-CALDESC:Events for Paradise News Magazine
REFRESH-INTERVAL;VALUE=DURATION:PT1H
X-Robots-Tag:noindex
X-PUBLISHED-TTL:PT1H
BEGIN:VTIMEZONE
TZID:UTC
BEGIN:STANDARD
TZOFFSETFROM:+0000
TZOFFSETTO:+0000
TZNAME:UTC
DTSTART:20200101T000000
END:STANDARD
END:VTIMEZONE
BEGIN:VEVENT
DTSTART;TZID=UTC:20210212T170000
DTEND;TZID=UTC:20210212T190000
DTSTAMP:20260423T115202
CREATED:20210209T173321Z
LAST-MODIFIED:20210209T173321Z
UID:20538-1613149200-1613156400@www.paradisenewsfl.com
SUMMARY:Mardi Gras Fundraiser for St. John Vianney Catholic School
DESCRIPTION:St. John Vianney Catholic School is doing a Drive-Thru Mardi Gras fundraiser with Bayou Catering next Friday\, February 12th 5-7pm. Every $100 donation gets each contributor two Bayou Catering carry-out meals brought to your car along with a Mardi Gras Gift Bag and a chance to win cash prizes including a $10\,000 grand prize. Sounds like a fun way to help support our local private school. Learn more on Facebook here.
URL:https://www.paradisenewsfl.com/event/mardi-gras-fundraiser-for-st-john-vianney-catholic-school/
LOCATION:St. John Vianney Catholic Church\, 8350 Blind Pass Road\, St. Pete Beach\, FL\, 33706\, United States
CATEGORIES:ALL
ATTACH;FMTTYPE=image/jpeg:https://www.paradisenewsfl.com/wp-content/uploads/2021/02/sjvcs-mardi-gras.jpg
END:VEVENT
BEGIN:VEVENT
DTSTART;TZID=UTC:20210212T180000
DTEND;TZID=UTC:20210212T200000
DTSTAMP:20260423T115202
CREATED:20210126T213137Z
LAST-MODIFIED:20210128T172322Z
UID:20186-1613152800-1613160000@www.paradisenewsfl.com
SUMMARY:Treasure Island Firefighters 3rd Annual Chili Cook-off
DESCRIPTION:THIS EVENT IS SOLD OUT. \nThe City of Treasure Island’s Fire Department is hosting a Chili Cook-off Friday\, February 12th 6-8pm at the Treasure Island Community Center. We look forward to seeing you as either a competitor or a judge! Masks required and social distancing enforced.\n$10 allows you to sample and vote on all entries – beer and wine available for purchase.\nFree to enter your chili recipe. Tickets must be pre-purchased at the Treasure Island Fire Department (M-F\, 8am-4pm). Admission is limited to 100. Prizes for the 1st\, 2nd and 3rd best chili recipes as judged by the chili sampling public. Special “Chief’s Choice” award for the hottest entry!
URL:https://www.paradisenewsfl.com/event/treasure-island-firefighters-3rd-annual-chili-cook-ff/
LOCATION:Treasure Island\, Treasure Island\, FL\, United States
CATEGORIES:ALL
ATTACH;FMTTYPE=image/jpeg:https://www.paradisenewsfl.com/wp-content/uploads/2016/05/treasureislandpirate-1.jpg
END:VEVENT
END:VCALENDAR