BEGIN:VCALENDAR
VERSION:2.0
PRODID:-//Paradise News Magazine - ECPv6.15.20//NONSGML v1.0//EN
CALSCALE:GREGORIAN
METHOD:PUBLISH
X-WR-CALNAME:Paradise News Magazine
X-ORIGINAL-URL:https://www.paradisenewsfl.com
X-WR-CALDESC:Events for Paradise News Magazine
REFRESH-INTERVAL;VALUE=DURATION:PT1H
X-Robots-Tag:noindex
X-PUBLISHED-TTL:PT1H
BEGIN:VTIMEZONE
TZID:UTC
BEGIN:STANDARD
TZOFFSETFROM:+0000
TZOFFSETTO:+0000
TZNAME:UTC
DTSTART:20200101T000000
END:STANDARD
END:VTIMEZONE
BEGIN:VEVENT
DTSTART;TZID=UTC:20210204T183000
DTEND;TZID=UTC:20210204T203000
DTSTAMP:20260423T115138
CREATED:20210121T223439Z
LAST-MODIFIED:20210211T205044Z
UID:20102-1612463400-1612470600@www.paradisenewsfl.com
SUMMARY:Smartly Dressed Fashion Show
DESCRIPTION:The Stuart Society’s annual Smartly Dressed Fashion Show has been reimagined to showcase Glamour in the Galleries as a virtual experience! The program will include a fashion show curated by Jackie Z Style Co. featuring male and female models from our community. Enjoy music from internationally known jazz artists and St. Pete residents Nate Najar and Daniela Soledade as well as appearances by MFA Executive Director and CEO Kristen A. Shepherd and Senior Curator of Collections and Exhibitions Stanton Thomas\, Ph.D.\n\nYour participation at this special event provides valuable support to the Museum of Fine Arts’ mission and exhibitions; a portion of each reservation is tax-deductible. The portion of your contribution which is not tax deductible is $40 (fair market value of the goods and services provided).\n\nIndividual Ticket: $85\nPatron Ticket: Individual ticket and recognition at the event – $125
URL:https://www.paradisenewsfl.com/event/smartly-dressed-fashion-show/
LOCATION:Museum of Fine Arts St. Pete\, 255 Beach Drive NE\, St. Petersburg\, FL\, 33701\, United States
CATEGORIES:ALL,Art,St. Petersburg
ATTACH;FMTTYPE=image/jpeg:https://www.paradisenewsfl.com/wp-content/uploads/2016/09/smartly-dressed-fashion-show.jpg
END:VEVENT
END:VCALENDAR