BEGIN:VCALENDAR
VERSION:2.0
PRODID:-//Paradise News Magazine - ECPv6.15.20//NONSGML v1.0//EN
CALSCALE:GREGORIAN
METHOD:PUBLISH
X-WR-CALNAME:Paradise News Magazine
X-ORIGINAL-URL:https://www.paradisenewsfl.com
X-WR-CALDESC:Events for Paradise News Magazine
REFRESH-INTERVAL;VALUE=DURATION:PT1H
X-Robots-Tag:noindex
X-PUBLISHED-TTL:PT1H
BEGIN:VTIMEZONE
TZID:UTC
BEGIN:STANDARD
TZOFFSETFROM:+0000
TZOFFSETTO:+0000
TZNAME:UTC
DTSTART:20200101T000000
END:STANDARD
END:VTIMEZONE
BEGIN:VEVENT
DTSTART;TZID=UTC:20210129T130000
DTEND;TZID=UTC:20210129T180000
DTSTAMP:20260423T130918
CREATED:20210114T191227Z
LAST-MODIFIED:20210114T191227Z
UID:19987-1611925200-1611943200@www.paradisenewsfl.com
SUMMARY:Save Live with One Blood- Blood Drive at Boulevard Burgers
DESCRIPTION:Once again you’ll have the opportunity to share your power and save lives. \nJoin us at Boulevard Burgers & Tap House on Friday\, January 29th for a blood drive hosted with OneBlood! Get on the Big Red Bus\, donate\, and help us save lives. \nREGISTER HERE: https://fb.me/e/21rLTWdys \nDONOR PERKS\nFree COVID-19 Antibody Test\n$10 Off at Boulevard Burgers*\nFree OneBlood Long Sleeve T-Shirt\n$10 eGift Card \n*$10 credit towards your meal. Offer valid on items with equal or greater value. Must donate on the Big Red Bus located on the premises on January 29th.
URL:https://www.paradisenewsfl.com/event/save-live-with-one-blood-blood-drive-at-boulevard-burgers/
LOCATION:Boulevard Burgers & Tap House\, 5905 Gulf Blvd\, St. Pete Beach\, FL\, 33796\, United States
CATEGORIES:ALL,St. Pete Beach
ATTACH;FMTTYPE=image/jpeg:https://www.paradisenewsfl.com/wp-content/uploads/2019/11/november-blvd-burger-banner.jpg
END:VEVENT
END:VCALENDAR