BEGIN:VCALENDAR
VERSION:2.0
PRODID:-//Paradise News Magazine - ECPv6.15.20//NONSGML v1.0//EN
CALSCALE:GREGORIAN
METHOD:PUBLISH
X-WR-CALNAME:Paradise News Magazine
X-ORIGINAL-URL:https://www.paradisenewsfl.com
X-WR-CALDESC:Events for Paradise News Magazine
REFRESH-INTERVAL;VALUE=DURATION:PT1H
X-Robots-Tag:noindex
X-PUBLISHED-TTL:PT1H
BEGIN:VTIMEZONE
TZID:UTC
BEGIN:STANDARD
TZOFFSETFROM:+0000
TZOFFSETTO:+0000
TZNAME:UTC
DTSTART:20190101T000000
END:STANDARD
END:VTIMEZONE
BEGIN:VEVENT
DTSTART;VALUE=DATE:20201121
DTEND;VALUE=DATE:20210101
DTSTAMP:20260423T143106
CREATED:20201123T205519Z
LAST-MODIFIED:20201123T205519Z
UID:18750-1605916800-1609459199@www.paradisenewsfl.com
SUMMARY:Victorian Christmas Stroll
DESCRIPTION:To ensure your safety\, masks and temperature checks are required before entering the Museum.\n\nThe 39th annual Victorian Christmas Stroll starts this week! We’ve added additional dates this year\, and look forward to celebrating an old fashioned holiday with you soon.\n\nThe Victorian Christmas Stroll runs November 21 – December 31\, 10 am – 5 pm daily (closed Thanksgiving\, Christmas Eve and Christmas Day). To keep visitors\, volunteers and staff safe\, capacity is limited\, and timed tickets are available now. Purchase yours today\, and know that you are enjoying our exhibits and displays in a safe environment.\n\nExperience lavish decorations\, antique toys\, vintage fashions\, and more in the historic 1891 Tampa Bay Hotel.\n\nGraciously underwritten by The Henry B. Plant Museum Society\, Inc.\, the Knox Family Foundation\, and Specialized Property Services. Media underwriter: WUSF.\n\nAdmissions: \nAdults – $16\, Seniors – $14\, Youth – $10\nLast tickets sold at 4:30 pm \nDiscount Days: December 7\, 8\, 14\, 15\nAdults –  $14\, Seniors – $12\, Youth – $8
URL:https://www.paradisenewsfl.com/event/victorian-christmas-stroll/
LOCATION:Henry B Plant Museum\, 401 W. Kennedy Boulevard\, Tampa\, FL\, 33616\, United States
ATTACH;FMTTYPE=image/jpeg:https://www.paradisenewsfl.com/wp-content/uploads/2016/12/victorian-christmas-stroll.jpg
END:VEVENT
BEGIN:VEVENT
DTSTART;VALUE=DATE:20201126
DTEND;VALUE=DATE:20210104
DTSTAMP:20260423T143106
CREATED:20201123T195843Z
LAST-MODIFIED:20201123T195940Z
UID:18745-1606348800-1609718399@www.paradisenewsfl.com
SUMMARY:Holiday Lights & Rides in the Park
DESCRIPTION:This family-fun annual tradition presented by the City of Largo features spectacular holiday light displays\, the whimsical flying elephant-themed Jumbo ride\, and a seven-story Ferris wheel that offers a bird’s-eye view of the 70-acre Largo Central Park and more than 2 million twinkling LED lights. \nPark admission is free. Rides are $5 each or 5 for $20. Food and beverages are available from onsite vendors. \nThe rides are open nightly from 5 to 11 pm Thanksgiving Day through Jan. 3. The holiday light displays are on till 10 pm. \nPark visitors are encouraged to wear a holiday face covering and practice social distancing. \nFor more information\, call 866-666-3247.
URL:https://www.paradisenewsfl.com/event/holiday-lights-rides-in-the-park/
LOCATION:Largo Central Park\, 101 Central Park Dr\, Largo\, FL\, 33771\, United States
CATEGORIES:ALL,Holiday Events
ATTACH;FMTTYPE=image/jpeg:https://www.paradisenewsfl.com/wp-content/uploads/2017/12/happy-holidays-sand.jpg
END:VEVENT
BEGIN:VEVENT
DTSTART;TZID=UTC:20201218T173000
DTEND;TZID=UTC:20201218T213000
DTSTAMP:20260423T143106
CREATED:20201203T202233Z
LAST-MODIFIED:20201203T202233Z
UID:19124-1608312600-1608327000@www.paradisenewsfl.com
SUMMARY:Madeira Beach Free Movie in the Park- ELF
DESCRIPTION:Join the Madeira Beach Recreation Department for a Free Movie In The Park on December 18th at 6:30pm. We will be screening ELF for a nice holiday movie in R.O.C. Park. The movie will begin at 6:30pm\, shortly after sunset. Attendees may begin arriving at 5:30pm to claim their free physically distanced space. Chairs\, blankets\, and personal coolers are allowed.\n\nAddress: R.O.C. Park – 200 Rex Place\, Madeira Beach 33708
URL:https://www.paradisenewsfl.com/event/madeira-beach-free-movie-in-the-park-elf/
LOCATION:ROC Park\, 300 Municipal Drive\, Madeira Beach\, FL\, 33708\, United States
CATEGORIES:ALL,Holiday Events,Kids Events,Madeira Beach
ATTACH;FMTTYPE=image/jpeg:https://www.paradisenewsfl.com/wp-content/uploads/2017/12/happy-holidays-sand.jpg
END:VEVENT
BEGIN:VEVENT
DTSTART;TZID=UTC:20201218T183000
DTEND;TZID=UTC:20201218T203000
DTSTAMP:20260423T143106
CREATED:20201105T201947Z
LAST-MODIFIED:20201117T202408Z
UID:18466-1608316200-1608323400@www.paradisenewsfl.com
SUMMARY:St. Pete Beach Movies in the Park- The Santa Clause
DESCRIPTION:Join us for some holiday cheer in Horan park! On December 4th\, 11th and 18th we’ll be showing great holiday classics on the big screen! Tickets are required for movie entry and are $5 per ticket. 1 ticket provides enough space for up to 8 people to share. Movie starts at approximately 6:30pm but make sure to come early and join in on all the fun holiday activities as well as shopping from local vendors to find that perfect holiday gift! \nMovie Schedule: \nDec 4: Elf \nDec 11: The Polar Express \nDec 18: The Santa Clause \nTo purchase tickets please visit: https://st-pete-beach-community-center.ticketleap.com/christmas-movies-in-the-park/dates \nFor vendor information click here: Market vendor form 2020 \nFor more information call us at 727-363-9245
URL:https://www.paradisenewsfl.com/event/st-pete-beach-movies-in-the-park-the-santa-clause/
LOCATION:Horan Park\, 7701 Boca Ciega Drive\, St. pete Beach\, FL\, 33706\, United States
CATEGORIES:ALL,Holiday Events,Kids Events,St. Pete Beach
ATTACH;FMTTYPE=image/jpeg:https://www.paradisenewsfl.com/wp-content/uploads/2017/12/happy-holidays-sand.jpg
END:VEVENT
END:VCALENDAR